BEGIN:VCALENDAR
VERSION:2.0
PRODID:-//Ferme de Carmintran - ECPv6.15.20//NONSGML v1.0//EN
CALSCALE:GREGORIAN
METHOD:PUBLISH
X-ORIGINAL-URL:https://fermedecarmintran.fr
X-WR-CALDESC:Évènements pour Ferme de Carmintran
REFRESH-INTERVAL;VALUE=DURATION:PT1H
X-Robots-Tag:noindex
X-PUBLISHED-TTL:PT1H
BEGIN:VTIMEZONE
TZID:Europe/Paris
BEGIN:DAYLIGHT
TZOFFSETFROM:+0100
TZOFFSETTO:+0200
TZNAME:CEST
DTSTART:20240331T010000
END:DAYLIGHT
BEGIN:STANDARD
TZOFFSETFROM:+0200
TZOFFSETTO:+0100
TZNAME:CET
DTSTART:20241027T010000
END:STANDARD
BEGIN:DAYLIGHT
TZOFFSETFROM:+0100
TZOFFSETTO:+0200
TZNAME:CEST
DTSTART:20250330T010000
END:DAYLIGHT
BEGIN:STANDARD
TZOFFSETFROM:+0200
TZOFFSETTO:+0100
TZNAME:CET
DTSTART:20251026T010000
END:STANDARD
BEGIN:DAYLIGHT
TZOFFSETFROM:+0100
TZOFFSETTO:+0200
TZNAME:CEST
DTSTART:20260329T010000
END:DAYLIGHT
BEGIN:STANDARD
TZOFFSETFROM:+0200
TZOFFSETTO:+0100
TZNAME:CET
DTSTART:20261025T010000
END:STANDARD
END:VTIMEZONE
BEGIN:VEVENT
DTSTART;VALUE=DATE:20250607
DTEND;VALUE=DATE:20250608
DTSTAMP:20260422T132942
CREATED:20250604T172711Z
LAST-MODIFIED:20250605T174048Z
UID:973-1749254400-1749340799@fermedecarmintran.fr
SUMMARY:Ouverture du libre service le samedi 07 juin
DESCRIPTION:Le magasin sera exceptionnellement fermé mais le libre service sera à votre disposition.\nSur place : des sachets prépesés\, une boite à sous ou la possibilité de régler par virement!
URL:https://fermedecarmintran.fr/evenement/fermeture-exceptionnelle/
LOCATION:Ferme de Carmintran\, 479 Rte de Carmintran\, Sainte-Hélène-du-Lac\, Savoie\, 73800\, France
CATEGORIES:Fermeture
END:VEVENT
END:VCALENDAR