BEGIN:VCALENDAR
VERSION:2.0
PRODID:-//Ferme de Carmintran - ECPv6.15.20//NONSGML v1.0//EN
CALSCALE:GREGORIAN
METHOD:PUBLISH
X-WR-CALNAME:Ferme de Carmintran
X-ORIGINAL-URL:https://fermedecarmintran.fr
X-WR-CALDESC:Évènements pour Ferme de Carmintran
REFRESH-INTERVAL;VALUE=DURATION:PT1H
X-Robots-Tag:noindex
X-PUBLISHED-TTL:PT1H
BEGIN:VTIMEZONE
TZID:Europe/Paris
BEGIN:DAYLIGHT
TZOFFSETFROM:+0100
TZOFFSETTO:+0200
TZNAME:CEST
DTSTART:20230326T010000
END:DAYLIGHT
BEGIN:STANDARD
TZOFFSETFROM:+0200
TZOFFSETTO:+0100
TZNAME:CET
DTSTART:20231029T010000
END:STANDARD
BEGIN:DAYLIGHT
TZOFFSETFROM:+0100
TZOFFSETTO:+0200
TZNAME:CEST
DTSTART:20240331T010000
END:DAYLIGHT
BEGIN:STANDARD
TZOFFSETFROM:+0200
TZOFFSETTO:+0100
TZNAME:CET
DTSTART:20241027T010000
END:STANDARD
BEGIN:DAYLIGHT
TZOFFSETFROM:+0100
TZOFFSETTO:+0200
TZNAME:CEST
DTSTART:20250330T010000
END:DAYLIGHT
BEGIN:STANDARD
TZOFFSETFROM:+0200
TZOFFSETTO:+0100
TZNAME:CET
DTSTART:20251026T010000
END:STANDARD
END:VTIMEZONE
BEGIN:VEVENT
DTSTART;TZID=Europe/Paris:20241129T173000
DTEND;TZID=Europe/Paris:20241129T193000
DTSTAMP:20260423T043751
CREATED:20250220T131142Z
LAST-MODIFIED:20250602T091636Z
UID:273-1732901400-1732908600@fermedecarmintran.fr
SUMMARY:Soirée de Présentation du Réseau Paysans de Nature en Savoie
DESCRIPTION:
URL:https://fermedecarmintran.fr/evenement/journee-de-presentation-du-reseau-paysans-de-nature-en-savoie/
LOCATION:Ferme de Carmintran\, 479 Rte de Carmintran\, Sainte-Hélène-du-Lac\, Savoie\, 73800\, France
END:VEVENT
END:VCALENDAR